BEGIN:VCALENDAR
VERSION:2.0
PRODID:-//KiedySztuka - ECPv6.14.1//NONSGML v1.0//EN
CALSCALE:GREGORIAN
METHOD:PUBLISH
X-ORIGINAL-URL:https://kiedysztuka.pl
X-WR-CALDESC:Wydarzenia dla KiedySztuka
REFRESH-INTERVAL;VALUE=DURATION:PT1H
X-Robots-Tag:noindex
X-PUBLISHED-TTL:PT1H
BEGIN:VTIMEZONE
TZID:Europe/Warsaw
BEGIN:DAYLIGHT
TZOFFSETFROM:+0100
TZOFFSETTO:+0200
TZNAME:CEST
DTSTART:20260329T010000
END:DAYLIGHT
BEGIN:STANDARD
TZOFFSETFROM:+0200
TZOFFSETTO:+0100
TZNAME:CET
DTSTART:20261025T010000
END:STANDARD
END:VTIMEZONE
BEGIN:VEVENT
DTSTART;TZID=Europe/Warsaw:20260830T090000
DTEND;TZID=Europe/Warsaw:20260830T190000
DTSTAMP:20260419T163603
CREATED:20251014T123936Z
LAST-MODIFIED:20251014T123936Z
UID:3634-1788080400-1788116400@kiedysztuka.pl
SUMMARY:Zakończenie Wystawy "Wojenne dzieci". Kraków.
DESCRIPTION:Wystawa: 12.09.2025 r. – 30.08.2026 r.\n\n \n\nKuratorka wystawy: Beata Łabno\n\n \n\nWystawa „Wojenne dzieci” w Fabryce Emalia Oskara Schindlera ukazuje II wojnę światową z perspektywy najmłodszych – tych\, którzy 1 września 1939 roku mieli nie więcej niż jedenaście lat. Poprzez mikrohistorie kilkunastu bohaterów o różnym pochodzeniu i wyznaniu przedstawia ich codzienność\, strach\, utratę i niezwykłą odporność. Ekspozycja podkreśla sprawczość dzieci\, ich relacje z dorosłymi oraz doświadczenia w obozach i na deportacji. Towarzyszą jej fotografie\, rysunki\, nagrania\, osobiste pamiątki i archiwalia z Polski\, Anglii i Izraela. Wystawa kończy się pytaniem o to\, czy dziś naprawdę dajemy dzieciom wszystko\, co najlepsze. Dla najmłodszych przygotowano publikację „Szkatułka. Pierrot. Piłeczka” oraz słuchowisko oparte na prawdziwych losach wojennych dzieci.
URL:https://kiedysztuka.pl/event/zakonczenie-wystawy-wojenne-dzieci-krakow/
LOCATION:Fabryka Emalia Oskara Schindlera – Oddział Muzeum Krakowa\, Lipowa 4\, Kraków\, Małopolskie\, 30-702\, Poland
END:VEVENT
BEGIN:VEVENT
DTSTART;TZID=Europe/Warsaw:20260830T100000
DTEND;TZID=Europe/Warsaw:20260830T160000
DTSTAMP:20260419T163603
CREATED:20250929T113332Z
LAST-MODIFIED:20250929T113332Z
UID:2970-1788084000-1788105600@kiedysztuka.pl
SUMMARY:Zakończenie Wystawy "Heliogramy w Sali Salomona. W poszukiwaniu światła. Nicolas Grospierre". Warszawa.
DESCRIPTION:Wystawa: 12.09.2025 r. – 30.08.2026 r. \nHeliogramy Nicolasa Grospierre’a wypełniają puste pola po zniszczonych podczas wojny obrazach Marcella Bacciarellego w Sali Salomona Pałacu na Wyspie. Powstałe z działania słońca abstrakcyjne kompozycje stają się pomostem między obecnością a nieobecnością\, trwałością i przemijaniem. Projekt łączy historyczną wizję Stanisława Augusta z nowoczesnym językiem sztuki\, tworząc dialog między przeszłością a teraźniejszością. To także unikatowa gra ze światłem\, w której natura staje się współtwórcą dzieła.
URL:https://kiedysztuka.pl/event/zakonczenie-wystawy-heliogramy-w-sali-salomona-w-poszukiwaniu-swiatla-nicolas-grospierre-warszawa/
LOCATION:Muzeum Łazienki Królewskie w Warszawie\, Agrykola 1\, Warszawa\, Mazowieckie\, 00-460\, Poland
END:VEVENT
BEGIN:VEVENT
DTSTART;TZID=Europe/Warsaw:20260830T100000
DTEND;TZID=Europe/Warsaw:20260830T170000
DTSTAMP:20260419T163603
CREATED:20251113T091200Z
LAST-MODIFIED:20251113T091217Z
UID:4164-1788084000-1788109200@kiedysztuka.pl
SUMMARY:Zakończenie Wystawy "Ręcznikowe ogrody. Wystawa haftowanych tkanin inspirowanych naturą". Bielsk Podlaski.
DESCRIPTION:Wystawa: 13.11.2025 r. – 30.08.2026 r. \nTermin wystawy został dostosowany do faktycznych godzin otwarcia Muzeum.  \nKurator wystawy: Jerzy W. Sołub \nWystawa Ręcznikowe ogrody w Muzeum Obojga Narodów w Bielsku Podlaskim ukazuje piękno ludowych ręczników – jednego z najcenniejszych przejawów tradycji tkackiej regionu. To poetycka opowieść o kobiecej kreatywności i zachwycie naturą\, utrwalonym w misternych haftach inspirowanych przydomowymi ogrodami. Każda tkanina\, pełna roślinnych i zwierzęcych motywów\, staje się świadectwem kultury\, emocji i pamięci przekazywanej przez pokolenia. Zbiór ponad 450 obiektów\, gromadzony przez bielskie muzeum w latach 2013–2022\, dokumentuje bogactwo lokalnych tradycji oraz znaczenie ręcznika jako nośnika symboli\, historii i tożsamości.
URL:https://kiedysztuka.pl/event/zakonczenie-wystawy-recznikowe-ogrody-wystawa-haftowanych-tkanin-inspirowanych-natura-bielsk-podlaski/
LOCATION:Muzeum Obojga Narodów w Bielsku Podlaskim\, Adama Mickiewicza 45\, Bielsk Podlaski\, Podlaskie\, 17-100\, Poland
END:VEVENT
END:VCALENDAR