BEGIN:VCALENDAR
VERSION:2.0
PRODID:-//KiedySztuka - ECPv6.14.1//NONSGML v1.0//EN
CALSCALE:GREGORIAN
METHOD:PUBLISH
X-ORIGINAL-URL:https://kiedysztuka.pl
X-WR-CALDESC:Wydarzenia dla KiedySztuka
REFRESH-INTERVAL;VALUE=DURATION:PT1H
X-Robots-Tag:noindex
X-PUBLISHED-TTL:PT1H
BEGIN:VTIMEZONE
TZID:Europe/Warsaw
BEGIN:DAYLIGHT
TZOFFSETFROM:+0100
TZOFFSETTO:+0200
TZNAME:CEST
DTSTART:20260329T010000
END:DAYLIGHT
BEGIN:STANDARD
TZOFFSETFROM:+0200
TZOFFSETTO:+0100
TZNAME:CET
DTSTART:20261025T010000
END:STANDARD
END:VTIMEZONE
BEGIN:VEVENT
DTSTART;TZID=Europe/Warsaw:20260705T100000
DTEND;TZID=Europe/Warsaw:20260705T180000
DTSTAMP:20260419T150420
CREATED:20250706T140907Z
LAST-MODIFIED:20250708T210627Z
UID:150-1783245600-1783274400@kiedysztuka.pl
SUMMARY:Zakończenie Wystawy "Pokaz w Galerii Sztuki XIX wieku / Olga Boznańska". Warszawa.
DESCRIPTION:Wystawa: 10.09.2025 r. – 05.07.2026 r. \nKuratorka: Renata Higersberger. \nMuzeum Narodowe w Warszawie prezentuje wybór blisko 30 prac Olgi Boznańskiej z okazji 160. rocznicy jej urodzin i 85. rocznicy śmierci. Pokaz obejmuje portrety i martwe natury artystki.
URL:https://kiedysztuka.pl/event/zakonczenie-pokazu-w-galerii-sztuki-xix-wieku-olga-boznanska/
LOCATION:Muzeum Narodowe w Warszawie\, Al. Jerozolimskie 3\, Warszawa\, Mazowieckie\, 00-495\, Poland
END:VEVENT
BEGIN:VEVENT
DTSTART;TZID=Europe/Warsaw:20260705T100000
DTEND;TZID=Europe/Warsaw:20260705T180000
DTSTAMP:20260419T150420
CREATED:20251106T121427Z
LAST-MODIFIED:20251106T121427Z
UID:4047-1783245600-1783274400@kiedysztuka.pl
SUMMARY:Zakończenie Wystawy "Kolekcje. Bycie pośród rzeczy". Warszawa.
DESCRIPTION:Wystawa: 19.11.2025 r. – 05.07.2026 r. \nZespół kuratorski: Anna Marcinkowska\, Emilia Siehień\, Leon Siehień\, Grzegorz Siehień\, Natalia Trybuła\, Klara Trybuła-Obrębska\, Elżbieta Siwczak\, Matylda Siwczak\, Konrad Siwczak\, Emilia Szynkiewicz\, Elwira Szynkiewicz\, Magdalena Żuk-Zielińska\, Ola Zielińska\, Franek Zieliński\, Małgorzata Czekajło \nWystawa Kolekcje. Bycie pośród rzeczy w Muzeum Warszawskiej Pragi opowiada o relacjach między ludźmi a przedmiotami\, które towarzyszą im w codziennym życiu. To refleksja nad sensem kolekcjonowania – zarówno muzealnego\, jak i osobistego – oraz nad tym\, jak rzeczy kształtują wspomnienia\, emocje i tożsamość. Ekspozycja łączy obiekty z muzealnych zbiorów i prywatnych darowizn z historiami mieszkańców Pragi\, tworząc wielowarstwową opowieść o pamięci i wspólnym dziedzictwie. Wystawę dopełnia scenografia Studia Iskry oraz ilustracje Pawła Mildnera\, wprowadzające nostalgiczną\, ale i refleksyjną atmosferę spotkania z przeszłością.
URL:https://kiedysztuka.pl/event/zakonczenie-wystawy-kolekcje-bycie-posrod-rzeczy-warszawa/
LOCATION:Muzeum Warszawskiej Pragi Oddział Muzeum Warszawy\, Targowa 50/52\, Warszawa\, Mazowieckie\, 03-733\, Poland
END:VEVENT
END:VCALENDAR